BEGIN:VCALENDAR
VERSION:2.0
PRODID:-//De Hoedt en de Rand - ECPv6.15.20//NONSGML v1.0//EN
CALSCALE:GREGORIAN
METHOD:PUBLISH
X-ORIGINAL-URL:https://dehoedtenderand.nl
X-WR-CALDESC:Evenementen voor De Hoedt en de Rand
REFRESH-INTERVAL;VALUE=DURATION:PT1H
X-Robots-Tag:noindex
X-PUBLISHED-TTL:PT1H
BEGIN:VTIMEZONE
TZID:Europe/Amsterdam
BEGIN:DAYLIGHT
TZOFFSETFROM:+0100
TZOFFSETTO:+0200
TZNAME:CEST
DTSTART:20240331T010000
END:DAYLIGHT
BEGIN:STANDARD
TZOFFSETFROM:+0200
TZOFFSETTO:+0100
TZNAME:CET
DTSTART:20241027T010000
END:STANDARD
BEGIN:DAYLIGHT
TZOFFSETFROM:+0100
TZOFFSETTO:+0200
TZNAME:CEST
DTSTART:20250330T010000
END:DAYLIGHT
BEGIN:STANDARD
TZOFFSETFROM:+0200
TZOFFSETTO:+0100
TZNAME:CET
DTSTART:20251026T010000
END:STANDARD
BEGIN:DAYLIGHT
TZOFFSETFROM:+0100
TZOFFSETTO:+0200
TZNAME:CEST
DTSTART:20260329T010000
END:DAYLIGHT
BEGIN:STANDARD
TZOFFSETFROM:+0200
TZOFFSETTO:+0100
TZNAME:CET
DTSTART:20261025T010000
END:STANDARD
END:VTIMEZONE
BEGIN:VEVENT
DTSTART;TZID=Europe/Amsterdam:20250223T170000
DTEND;TZID=Europe/Amsterdam:20250223T223000
DTSTAMP:20260422T213432
CREATED:20241213T113045Z
LAST-MODIFIED:20250120T150113Z
UID:1826-1740330000-1740349800@dehoedtenderand.nl
SUMMARY:Indisch diner
DESCRIPTION:Een Indische avond\, maar dan anders! Eeg kookt zelf en serveert lekkere Indisch geinspireerde hapjes  en serveert deze in meerdere gangen\, Reserveer een tijdstip dat jou goed uitkomt (starten tussen 17.00 en 19.00 uur) en geniet lekker van een gezellige zondagavond! \nDit is een eenmalig themadiner waarin we geen rekening kunnen houden met speciale dieetwensen. Uiteraard is het wel mogelijk om een vegetarische voorkeur door te geven.
URL:https://dehoedtenderand.nl/event/indisch-diner/
LOCATION:De Hoedt en de Rand\, Amsterdamseweg 21A\, Arnhem\, 6814GA\, Nederland
CATEGORIES:Speciaal menu
ATTACH;FMTTYPE=image/png:https://dehoedtenderand.nl/wp-content/uploads/2024/12/Site-Indisch-Diner.png
END:VEVENT
END:VCALENDAR