BEGIN:VCALENDAR
VERSION:2.0
PRODID:-//De Hoedt en de Rand - ECPv6.15.20//NONSGML v1.0//EN
CALSCALE:GREGORIAN
METHOD:PUBLISH
X-ORIGINAL-URL:https://dehoedtenderand.nl
X-WR-CALDESC:Evenementen voor De Hoedt en de Rand
REFRESH-INTERVAL;VALUE=DURATION:PT1H
X-Robots-Tag:noindex
X-PUBLISHED-TTL:PT1H
BEGIN:VTIMEZONE
TZID:Europe/Amsterdam
BEGIN:DAYLIGHT
TZOFFSETFROM:+0100
TZOFFSETTO:+0200
TZNAME:CEST
DTSTART:20240331T010000
END:DAYLIGHT
BEGIN:STANDARD
TZOFFSETFROM:+0200
TZOFFSETTO:+0100
TZNAME:CET
DTSTART:20241027T010000
END:STANDARD
BEGIN:DAYLIGHT
TZOFFSETFROM:+0100
TZOFFSETTO:+0200
TZNAME:CEST
DTSTART:20250330T010000
END:DAYLIGHT
BEGIN:STANDARD
TZOFFSETFROM:+0200
TZOFFSETTO:+0100
TZNAME:CET
DTSTART:20251026T010000
END:STANDARD
BEGIN:DAYLIGHT
TZOFFSETFROM:+0100
TZOFFSETTO:+0200
TZNAME:CEST
DTSTART:20260329T010000
END:DAYLIGHT
BEGIN:STANDARD
TZOFFSETFROM:+0200
TZOFFSETTO:+0100
TZNAME:CET
DTSTART:20261025T010000
END:STANDARD
END:VTIMEZONE
BEGIN:VEVENT
DTSTART;TZID=Europe/Amsterdam:20251223T120000
DTEND;TZID=Europe/Amsterdam:20251225T223000
DTSTAMP:20260423T005833
CREATED:20251007T204712Z
LAST-MODIFIED:20251125T110757Z
UID:2049-1766491200-1766701800@dehoedtenderand.nl
SUMMARY:Kerst in de Hoedt
DESCRIPTION:Op kerstavond\, eerste en tweede kerstdag zijn wij dit jaar geopend. We serveren een heerlijke 4 gangenlunch en een feestelijk 5 gangendiner. Naast een vis/vlees optie serveren we de kerstlunch en het -diner ook in een vegan variant. Reserveren kan online of telefonisch. \nDe prijzen voor het diner: \n4 gangenlunch   € 49 \n5 gangendiner   € 59 \nVoor mensen die met Kerst gezelligheid zoeken hebben we onze stamtafel omgedoopt tot aanschuiftafel. Aan deze tafel is iedereen welkom. Alleen eten met Kerst hoeft dus niet. Schuif gezellig samen met anderen aan op de stamtafel!
URL:https://dehoedtenderand.nl/event/kerstmis-in-de-hoedt/
LOCATION:De Hoedt en de Rand\, Amsterdamseweg 21A\, Arnhem\, 6814GA\, Nederland
CATEGORIES:Speciaal menu
ATTACH;FMTTYPE=image/png:https://dehoedtenderand.nl/wp-content/uploads/2025/10/Kerstmis.png
END:VEVENT
END:VCALENDAR